BEGIN:VCALENDAR
VERSION:2.0
PRODID:-//Tukios.com/
BEGIN:VEVENT
UID:2929434d-f86a-4202-bd44-093feb15305a@www.clpagemortuary.com
DTSTAMP:20260421T085910Z
DTSTART:20260418T140000Z
DTEND:20260418T150000Z
SUMMARY:Celebration of Life
DESCRIPTION:
URL:https://www.clpagemortuary.com/obituaries/willie-stinson-jr
LOCATION: 3031 Moncrief Rd  Jacksonville FL 32209
GEO:30.356599;-81.6734479
END:VEVENT
END:VCALENDAR