BEGIN:VCALENDAR
VERSION:2.0
PRODID:-//Tukios.com/
BEGIN:VEVENT
UID:d626e81e-79cc-4360-835d-551b62c00038@www.clpagemortuary.com
DTSTAMP:20260421T090114Z
DTSTART:20260417T210000Z
DTEND:20260417T230000Z
SUMMARY:Visitation
DESCRIPTION:
URL:https://www.clpagemortuary.com/obituaries/willie-stinson-jr
LOCATION: 3031 Moncrief Rd  Jacksonville FL 32209
GEO:30.356599;-81.6734479
END:VEVENT
END:VCALENDAR